BEGIN:VCALENDAR
VERSION:2.0
PRODID:-//Ariinfo - ECPv5.1.0//NONSGML v1.0//EN
CALSCALE:GREGORIAN
METHOD:PUBLISH
X-WR-CALNAME:Ariinfo
X-ORIGINAL-URL:https://ariinfo.ee
X-WR-CALDESC:Events for Ariinfo
BEGIN:VTIMEZONE
TZID:Europe/Helsinki
BEGIN:DAYLIGHT
TZOFFSETFROM:+0200
TZOFFSETTO:+0300
TZNAME:EEST
DTSTART:20240331T010000
END:DAYLIGHT
BEGIN:STANDARD
TZOFFSETFROM:+0300
TZOFFSETTO:+0200
TZNAME:EET
DTSTART:20241027T010000
END:STANDARD
END:VTIMEZONE
BEGIN:VEVENT
DTSTART;TZID=Europe/Helsinki:20240321T110000
DTEND;TZID=Europe/Helsinki:20240321T141500
DTSTAMP:20260422T183743
CREATED:20240223T092749Z
LAST-MODIFIED:20240223T092802Z
UID:18669-1711018800-1711030500@ariinfo.ee
SUMMARY:Edukas ehitusjuhtimine. Reeglid ja levinumad vead teede- ja raudtee-ehituse korraldamisel
DESCRIPTION:
URL:https://ariinfo.ee/event/edukas-ehitusjuhtimine-reeglid-ja-levinumad-vead-teede-ja-raudtee-ehituse-korraldamisel/
END:VEVENT
END:VCALENDAR