BEGIN:VCALENDAR
VERSION:2.0
PRODID:-//Ariinfo - ECPv5.1.0//NONSGML v1.0//EN
CALSCALE:GREGORIAN
METHOD:PUBLISH
X-WR-CALNAME:Ariinfo
X-ORIGINAL-URL:https://ariinfo.ee
X-WR-CALDESC:Events for Ariinfo
BEGIN:VTIMEZONE
TZID:Europe/Helsinki
BEGIN:DAYLIGHT
TZOFFSETFROM:+0200
TZOFFSETTO:+0300
TZNAME:EEST
DTSTART:20210328T010000
END:DAYLIGHT
BEGIN:STANDARD
TZOFFSETFROM:+0300
TZOFFSETTO:+0200
TZNAME:EET
DTSTART:20211031T010000
END:STANDARD
END:VTIMEZONE
BEGIN:VEVENT
DTSTART;TZID=Europe/Helsinki:20210520T100000
DTEND;TZID=Europe/Helsinki:20210520T170000
DTSTAMP:20260425T205212
CREATED:20210419T134117Z
LAST-MODIFIED:20240115T074615Z
UID:10736-1621504800-1621530000@ariinfo.ee
SUMMARY:Veebiseminar – Betoonpõrandad – ideest teostuseni
DESCRIPTION:
URL:https://ariinfo.ee/event/betoonporandad-kavandamise-kuldsed-reeglid/
END:VEVENT
END:VCALENDAR