BEGIN:VCALENDAR
VERSION:2.0
PRODID:-//Ariinfo - ECPv5.1.0//NONSGML v1.0//EN
CALSCALE:GREGORIAN
METHOD:PUBLISH
X-WR-CALNAME:Ariinfo
X-ORIGINAL-URL:https://ariinfo.ee
X-WR-CALDESC:Events for Ariinfo
BEGIN:VTIMEZONE
TZID:Europe/Helsinki
BEGIN:DAYLIGHT
TZOFFSETFROM:+0200
TZOFFSETTO:+0300
TZNAME:EEST
DTSTART:20240331T010000
END:DAYLIGHT
BEGIN:STANDARD
TZOFFSETFROM:+0300
TZOFFSETTO:+0200
TZNAME:EET
DTSTART:20241027T010000
END:STANDARD
END:VTIMEZONE
BEGIN:VEVENT
DTSTART;TZID=Europe/Helsinki:20240409T110000
DTEND;TZID=Europe/Helsinki:20240409T143000
DTSTAMP:20260422T092202
CREATED:20240205T095712Z
LAST-MODIFIED:20240326T105958Z
UID:18030-1712660400-1712673000@ariinfo.ee
SUMMARY:Avalik-õigusliku ehitusõigusega seotud lubade ja alusdokumentide ABC
DESCRIPTION:
URL:https://ariinfo.ee/event/avalik-oigusliku-ehitusoigusega-seotud-lubade-ja-alusdokumentide-abc/
END:VEVENT
END:VCALENDAR